BEGIN:VCALENDAR
VERSION:2.0
PRODID:-//ECV - ECPv6.15.20//NONSGML v1.0//EN
CALSCALE:GREGORIAN
METHOD:PUBLISH
X-WR-CALNAME:ECV
X-ORIGINAL-URL:https://ecv-elster.de
X-WR-CALDESC:Veranstaltungen für ECV
REFRESH-INTERVAL;VALUE=DURATION:PT1H
X-Robots-Tag:noindex
X-PUBLISHED-TTL:PT1H
BEGIN:VTIMEZONE
TZID:Europe/Berlin
BEGIN:DAYLIGHT
TZOFFSETFROM:+0100
TZOFFSETTO:+0200
TZNAME:CEST
DTSTART:20250330T010000
END:DAYLIGHT
BEGIN:STANDARD
TZOFFSETFROM:+0200
TZOFFSETTO:+0100
TZNAME:CET
DTSTART:20251026T010000
END:STANDARD
BEGIN:DAYLIGHT
TZOFFSETFROM:+0100
TZOFFSETTO:+0200
TZNAME:CEST
DTSTART:20260329T010000
END:DAYLIGHT
BEGIN:STANDARD
TZOFFSETFROM:+0200
TZOFFSETTO:+0100
TZNAME:CET
DTSTART:20261025T010000
END:STANDARD
BEGIN:DAYLIGHT
TZOFFSETFROM:+0100
TZOFFSETTO:+0200
TZNAME:CEST
DTSTART:20270328T010000
END:DAYLIGHT
BEGIN:STANDARD
TZOFFSETFROM:+0200
TZOFFSETTO:+0100
TZNAME:CET
DTSTART:20271031T010000
END:STANDARD
END:VTIMEZONE
BEGIN:VEVENT
DTSTART;TZID=Europe/Berlin:20261107T203000
DTEND;TZID=Europe/Berlin:20261108T020000
DTSTAMP:20260422T183305
CREATED:20250422T111254Z
LAST-MODIFIED:20260411T090054Z
UID:1287-1794083400-1794103200@ecv-elster.de
SUMMARY:Karnevalsdisco
DESCRIPTION:VERANSTALTUNGSORT				\n				\n				\n				\n					\n	\n		\n\n	\n	Zum Kalender hinzufügen	\n		\n	\n\n		\n			\n									\n	Google Kalender\n\n									\n	iCalendar\n\n									\n	Outlook 365\n\n									\n	Outlook Live\n\n							\n		\n\n		\n	\n\n				\n				\n				\n				\n					\n	\n		\n\n				ECV Jubiläum 55 Jahre Nacht der Funken	\n\n\n		\n	\n		Kinderkarneval			\n\n	\n\n				\n				\n				\n				\n		\n		\n				\n				\n									\n					\n						\n									<< Alle Veranstaltungen\n					\n					\n				\n								\n				\n		\n				\n				\n					\n		\n			Samstag\, 23.Januar\n\n		\n\n\n	\n				\n				\n				\n				\n				\n							\n			\n						\n		\n						\n				\n				\n				\n				\n					\n	ECV 55 Jahre Jubiläum Gala-Abend				\n				\n				\n				\n							\n			\n		\n						\n				\n				\n				\n									Das komplettes Programm mit anschließender Unterhaltungs- und Tanzmusik 								\n				\n				\n				\n					Kartenbestellung
URL:https://ecv-elster.de/event/karnevalsdisco/
LOCATION:Zum Schiffchen – Elster –\, Markt 8\, Zahna-Elster\, Sachsen-Anhalt\, 06895\, Germany
CATEGORIES:Karten nur am Einlass
ORGANIZER;CN="Elsteraner Carneval Verein e.V.":MAILTO:info(at)ecv-elster.de
END:VEVENT
BEGIN:VEVENT
DTSTART;VALUE=DATE:20261108
DTEND;VALUE=DATE:20261109
DTSTAMP:20260422T183306
CREATED:20250422T105628Z
LAST-MODIFIED:20260411T090016Z
UID:1298-1794096000-1794182399@ecv-elster.de
SUMMARY:Umzug und Proklamation des neuen Prinzenpaars
DESCRIPTION:VERANSTALTUNGSORT				\n				\n				\n				\n					\n	\n		\n\n	\n	Zum Kalender hinzufügen	\n		\n	\n\n		\n			\n									\n	Google Kalender\n\n									\n	iCalendar\n\n									\n	Outlook 365\n\n									\n	Outlook Live\n\n							\n		\n\n		\n	\n\n				\n				\n				\n				\n					\n	\n		\n\n				ECV Jubiläum 55 Jahre Nacht der Funken	\n\n\n		\n	\n		Kinderkarneval			\n\n	\n\n				\n				\n				\n				\n		\n		\n				\n				\n									\n					\n						\n									<< Alle Veranstaltungen\n					\n					\n				\n								\n				\n		\n				\n				\n					\n		\n			Samstag\, 23.Januar\n\n		\n\n\n	\n				\n				\n				\n				\n				\n							\n			\n						\n		\n						\n				\n				\n				\n				\n					\n	ECV 55 Jahre Jubiläum Gala-Abend				\n				\n				\n				\n							\n			\n		\n						\n				\n				\n				\n									Das komplettes Programm mit anschließender Unterhaltungs- und Tanzmusik 								\n				\n				\n				\n					Kartenbestellung
URL:https://ecv-elster.de/event/umzug/
LOCATION:Rathaus Elster (Elbe)\, Markt 12\, Zahna-Elster\, Sachsen-Anhalt\, 06895\, Germany
CATEGORIES:Eintritt frei
ORGANIZER;CN="Elsteraner Carneval Verein e.V.":MAILTO:info(at)ecv-elster.de
END:VEVENT
BEGIN:VEVENT
DTSTART;VALUE=DATE:20261114
DTEND;VALUE=DATE:20261115
DTSTAMP:20260422T183306
CREATED:20250422T105747Z
LAST-MODIFIED:20260411T090636Z
UID:1300-1794614400-1794700799@ecv-elster.de
SUMMARY:Großveranstaltung
DESCRIPTION:VERANSTALTUNGSORT				\n				\n				\n				\n					\n	\n		\n\n	\n	Zum Kalender hinzufügen	\n		\n	\n\n		\n			\n									\n	Google Kalender\n\n									\n	iCalendar\n\n									\n	Outlook 365\n\n									\n	Outlook Live\n\n							\n		\n\n		\n	\n\n				\n				\n				\n				\n					\n	\n		\n\n				ECV Jubiläum 55 Jahre Nacht der Funken	\n\n\n		\n	\n		Kinderkarneval			\n\n	\n\n				\n				\n				\n				\n		\n		\n				\n				\n									\n					\n						\n									<< Alle Veranstaltungen\n					\n					\n				\n								\n				\n		\n				\n				\n					\n		\n			Samstag\, 23.Januar\n\n		\n\n\n	\n				\n				\n				\n				\n				\n							\n			\n						\n		\n						\n				\n				\n				\n				\n					\n	ECV 55 Jahre Jubiläum Gala-Abend				\n				\n				\n				\n							\n			\n		\n						\n				\n				\n				\n									Das komplettes Programm mit anschließender Unterhaltungs- und Tanzmusik 								\n				\n				\n				\n					Kartenbestellung
URL:https://ecv-elster.de/event/grossveranstaltung/
LOCATION:Zum Schiffchen – Elster –\, Markt 8\, Zahna-Elster\, Sachsen-Anhalt\, 06895\, Germany
CATEGORIES:Bald im Vorverkauf
ORGANIZER;CN="Elsteraner Carneval Verein e.V.":MAILTO:info(at)ecv-elster.de
END:VEVENT
END:VCALENDAR