BEGIN:VCALENDAR
VERSION:2.0
PRODID:-//ECV - ECPv6.15.20//NONSGML v1.0//EN
CALSCALE:GREGORIAN
METHOD:PUBLISH
X-ORIGINAL-URL:https://ecv-elster.de
X-WR-CALDESC:Veranstaltungen für ECV
REFRESH-INTERVAL;VALUE=DURATION:PT1H
X-Robots-Tag:noindex
X-PUBLISHED-TTL:PT1H
BEGIN:VTIMEZONE
TZID:Europe/Berlin
BEGIN:DAYLIGHT
TZOFFSETFROM:+0100
TZOFFSETTO:+0200
TZNAME:CEST
DTSTART:20260329T010000
END:DAYLIGHT
BEGIN:STANDARD
TZOFFSETFROM:+0200
TZOFFSETTO:+0100
TZNAME:CET
DTSTART:20261025T010000
END:STANDARD
BEGIN:DAYLIGHT
TZOFFSETFROM:+0100
TZOFFSETTO:+0200
TZNAME:CEST
DTSTART:20270328T010000
END:DAYLIGHT
BEGIN:STANDARD
TZOFFSETFROM:+0200
TZOFFSETTO:+0100
TZNAME:CET
DTSTART:20271031T010000
END:STANDARD
BEGIN:DAYLIGHT
TZOFFSETFROM:+0100
TZOFFSETTO:+0200
TZNAME:CEST
DTSTART:20280326T010000
END:DAYLIGHT
BEGIN:STANDARD
TZOFFSETFROM:+0200
TZOFFSETTO:+0100
TZNAME:CET
DTSTART:20281029T010000
END:STANDARD
END:VTIMEZONE
BEGIN:VEVENT
DTSTART;VALUE=DATE:20270206
DTEND;VALUE=DATE:20270207
DTSTAMP:20260422T225904
CREATED:20250422T111155Z
LAST-MODIFIED:20260411T091108Z
UID:1307-1801872000-1801958399@ecv-elster.de
SUMMARY:Großveranstaltung
DESCRIPTION:VERANSTALTUNGSORT				\n				\n				\n				\n					\n	\n		\n\n	\n	Zum Kalender hinzufügen	\n		\n	\n\n		\n			\n									\n	Google Kalender\n\n									\n	iCalendar\n\n									\n	Outlook 365\n\n									\n	Outlook Live\n\n							\n		\n\n		\n	\n\n				\n				\n				\n				\n					\n	\n		\n\n				ECV Jubiläum 55 Jahre Nacht der Funken	\n\n\n		\n	\n		Kinderkarneval			\n\n	\n\n				\n				\n				\n				\n		\n		\n				\n				\n									\n					\n						\n									<< Alle Veranstaltungen\n					\n					\n				\n								\n				\n		\n				\n				\n					\n		\n			Samstag\, 23.Januar\n\n		\n\n\n	\n				\n				\n				\n				\n				\n							\n			\n						\n		\n						\n				\n				\n				\n				\n					\n	ECV 55 Jahre Jubiläum Gala-Abend				\n				\n				\n				\n							\n			\n		\n						\n				\n				\n				\n									Das komplettes Programm mit anschließender Unterhaltungs- und Tanzmusik 								\n				\n				\n				\n					Kartenbestellung
URL:https://ecv-elster.de/event/grossveranstaltung-motto/
LOCATION:Zum Schiffchen – Elster –\, Markt 8\, Zahna-Elster\, Sachsen-Anhalt\, 06895\, Germany
CATEGORIES:Bald im Vorverkauf
ORGANIZER;CN="Elsteraner Carneval Verein e.V.":MAILTO:info(at)ecv-elster.de
END:VEVENT
BEGIN:VEVENT
DTSTART;VALUE=DATE:20270208
DTEND;VALUE=DATE:20270209
DTSTAMP:20260422T225904
CREATED:20250422T111454Z
LAST-MODIFIED:20260411T091049Z
UID:1312-1802044800-1802131199@ecv-elster.de
SUMMARY:Rosenmontagsball
DESCRIPTION:VERANSTALTUNGSORT				\n				\n				\n				\n					\n	\n		\n\n	\n	Zum Kalender hinzufügen	\n		\n	\n\n		\n			\n									\n	Google Kalender\n\n									\n	iCalendar\n\n									\n	Outlook 365\n\n									\n	Outlook Live\n\n							\n		\n\n		\n	\n\n				\n				\n				\n				\n					\n	\n		\n\n				ECV Jubiläum 55 Jahre Nacht der Funken	\n\n\n		\n	\n		Kinderkarneval			\n\n	\n\n				\n				\n				\n				\n		\n		\n				\n				\n									\n					\n						\n									<< Alle Veranstaltungen\n					\n					\n				\n								\n				\n		\n				\n				\n					\n		\n			Samstag\, 23.Januar\n\n		\n\n\n	\n				\n				\n				\n				\n				\n							\n			\n						\n		\n						\n				\n				\n				\n				\n					\n	ECV 55 Jahre Jubiläum Gala-Abend				\n				\n				\n				\n							\n			\n		\n						\n				\n				\n				\n									Das komplettes Programm mit anschließender Unterhaltungs- und Tanzmusik 								\n				\n				\n				\n					Kartenbestellung
URL:https://ecv-elster.de/event/rosenmontag/
LOCATION:Zum Schiffchen – Elster –\, Markt 8\, Zahna-Elster\, Sachsen-Anhalt\, 06895\, Germany
CATEGORIES:Karten nur am Einlass
ORGANIZER;CN="Elsteraner Carneval Verein e.V.":MAILTO:info(at)ecv-elster.de
END:VEVENT
END:VCALENDAR